BEGIN:VCALENDAR
VERSION:2.0
PRODID:-//ChamberMaster//Event Calendar 2.0//EN
METHOD:PUBLISH
X-PUBLISHED-TTL:P1H
REFRESH-INTERVAL:P1H
CALSCALE:GREGORIAN
BEGIN:VTIMEZONE
TZID:America/New_York
BEGIN:DAYLIGHT
RRULE:FREQ=YEARLY;BYMONTH=3;BYDAY=2SU
DTSTART:20070101T000000
TZOFFSETFROM:-0500
TZOFFSETTO:-0400
TZNAME:Eastern Daylight Time
END:DAYLIGHT
BEGIN:STANDARD
RRULE:FREQ=YEARLY;BYMONTH=11;BYDAY=1SU
DTSTART:20070101T000000
TZOFFSETFROM:-0400
TZOFFSETTO:-0500
TZNAME:Eastern Standard Time
END:STANDARD
END:VTIMEZONE
BEGIN:VEVENT
DTSTART;TZID=America/New_York:20260424T120000
DTEND;TZID=America/New_York:20260424T124500
X-MICROSOFT-CDO-ALLDAYEVENT:FALSE
SUMMARY:VMA Legislative Update: 2026 Veto Session
DESCRIPTION:Join the VMA President & CEO\, Brett Vassey\, and Government Relations Director\, Stacie Gordon\, for a legislative briefing at 12 PM on Friday\, April 24\, following the reconvened session of the Virginia General Assembly.
X-ALT-DESC;FMTTYPE=text/html:<!DOCTYPE html><html><head><title></title></head><body aria-disabled="false"><p>Join the VMA President &amp\; CEO\, Brett Vassey\, and Government Relations Director\, Stacie Gordon\, for a legislative briefing at 12 PM on Friday\, April 24\, following the reconvened session of the Virginia General Assembly.</p></body></html>
LOCATION:
UID:e.3089.1446841
SEQUENCE:3
DTSTAMP:20260423T154721Z
URL:https://members.vamanufacturers.com/committee-calendar/Details/vma-legislative-update-2026-veto-session-1713651?sourceTypeId=Hub
END:VEVENT
END:VCALENDAR
