BEGIN:VCALENDAR
VERSION:2.0
PRODID:-//ChamberMaster//Event Calendar 2.0//EN
METHOD:PUBLISH
X-PUBLISHED-TTL:P1H
REFRESH-INTERVAL:P1H
CALSCALE:GREGORIAN
BEGIN:VTIMEZONE
TZID:America/New_York
BEGIN:DAYLIGHT
RRULE:FREQ=YEARLY;BYMONTH=3;BYDAY=2SU
DTSTART:20070101T000000
TZOFFSETFROM:-0500
TZOFFSETTO:-0400
TZNAME:Eastern Daylight Time
END:DAYLIGHT
BEGIN:STANDARD
RRULE:FREQ=YEARLY;BYMONTH=11;BYDAY=1SU
DTSTART:20070101T000000
TZOFFSETFROM:-0400
TZOFFSETTO:-0500
TZNAME:Eastern Standard Time
END:STANDARD
END:VTIMEZONE
BEGIN:VEVENT
DTSTART;TZID=America/New_York:20261203T170000
DTEND;TZID=America/New_York:20261203T190000
X-MICROSOFT-CDO-ALLDAYEVENT:FALSE
SUMMARY:VMA Holiday Open House 2026
DESCRIPTION:Join the VMA team\, manufacturers\, and allied professionals from across the Commonwealth for a special holiday celebration in Richmond!  We'll celebrate a year of manufacturing success over cocktails and appetizers in the VMA Event Center's Legacy Member Hall. RSVP today!
X-ALT-DESC;FMTTYPE=text/html:<!DOCTYPE html><html><head><title></title></head><body aria-disabled="false"><p>Join the VMA team\, manufacturers\, and allied professionals from across the Commonwealth for a special holiday celebration in Richmond! &nbsp\;We&#39\;ll celebrate a year of manufacturing success over cocktails and appetizers in the VMA Event Center&#39\;s Legacy Member Hall. RSVP today!</p></body></html>
LOCATION:2112 W Laburnum Ave\, Suite 205 Richmond VA 23227
UID:e.3089.1445551
SEQUENCE:3
DTSTAMP:20260423T155424Z
URL:https://members.vamanufacturers.com/committee-calendar/Details/vma-holiday-open-house-2026-1712168?sourceTypeId=Hub
END:VEVENT
END:VCALENDAR
