BEGIN:VCALENDAR
VERSION:2.0
PRODID:-//ChamberMaster//Event Calendar 2.0//EN
METHOD:PUBLISH
X-PUBLISHED-TTL:P1H
REFRESH-INTERVAL:P1H
CALSCALE:GREGORIAN
BEGIN:VTIMEZONE
TZID:America/New_York
BEGIN:DAYLIGHT
RRULE:FREQ=YEARLY;BYMONTH=3;BYDAY=2SU
DTSTART:20070101T000000
TZOFFSETFROM:-0500
TZOFFSETTO:-0400
TZNAME:Eastern Daylight Time
END:DAYLIGHT
BEGIN:STANDARD
RRULE:FREQ=YEARLY;BYMONTH=11;BYDAY=1SU
DTSTART:20070101T000000
TZOFFSETFROM:-0400
TZOFFSETTO:-0500
TZNAME:Eastern Standard Time
END:STANDARD
END:VTIMEZONE
BEGIN:VEVENT
DTSTART;TZID=America/New_York:20261013T000000
DTEND;TZID=America/New_York:20261015T000000
X-MICROSOFT-CDO-ALLDAYEVENT:FALSE
SUMMARY:Virginia Maritime Association's International Trade Symposium
DESCRIPTION:Stay ahead in global logistics and trade at the Virginia Maritime Association's International Trade Symposium\, returning to Norfolk this fall for its 23rd year. Recognized as one of the East Coast's leading conferences on shipping and ports\, logistics\, and international trade\, the symposium brings together more than 1\,500 participants from across the country and around the world.Attendees can expect three days of programming featuring national-level keynote speakers\, expert panels\, and high‑value networking opportunities. With 60+ industry experts and a focus on emerging trends\, technology\, policy\, and supply chain innovation\, the event offers insights relevant to manufacturers engaged in maritime and global commerce.Learn more about this event and register today.
X-ALT-DESC;FMTTYPE=text/html:<!DOCTYPE html><html><head><title></title></head><body aria-disabled="false" data-gr-ext-installed="" data-new-gr-c-s-check-loaded="14.1284.0" data-new-gr-c-s-loaded="14.1284.0" spellcheck="false"><p>Stay ahead in global logistics and trade at the Virginia Maritime Association&#39\;s International Trade Symposium\, returning to Norfolk this fall for its 23rd year. Recognized as one of the East Coast&rsquo\;s leading conferences on shipping and ports\, logistics\, and international trade\, the symposium brings together more than 1\,500 participants from across the country and around the world.</p><p>Attendees can expect three days of programming featuring national-level keynote speakers\, expert panels\, and high‑value networking opportunities. With 60+ industry experts and a focus on emerging trends\, technology\, policy\, and supply chain innovation\, the event offers insights relevant to manufacturers engaged in maritime and global commerce.</p><p><span style="color: rgb(41\, 105\, 176)\;"><a fr-original-style="" href="https://vamaritime.com/vmasymposium?_gl=1*cfls5w*_ga*MTc4NzAxNTU5MS4xNzc0MDE5NjI1*_ga_1RW6SL3XEC*czE3NzQwMTk2MjQkbzEkZzAkdDE3NzQwMTk2MjQkajYwJGwwJGgw" rel="noopener noreferrer" style="user-select: auto\; color: inherit\;" target="_blank">Learn more about this event and register today.</a></span></p></body></html>
LOCATION:Norfolk VA
UID:e.3089.1446093
SEQUENCE:3
DTSTAMP:20260423T154720Z
URL:https://members.vamanufacturers.com/committee-calendar/Details/virginia-maritime-association-s-international-trade-symposium-1712804?sourceTypeId=Hub
END:VEVENT
END:VCALENDAR
