BEGIN:VCALENDAR
VERSION:2.0
PRODID:-//ChamberMaster//Event Calendar 2.0//EN
METHOD:PUBLISH
X-PUBLISHED-TTL:P1H
REFRESH-INTERVAL:P1H
CALSCALE:GREGORIAN
BEGIN:VTIMEZONE
TZID:America/New_York
BEGIN:DAYLIGHT
RRULE:FREQ=YEARLY;BYMONTH=3;BYDAY=2SU
DTSTART:20070101T000000
TZOFFSETFROM:-0500
TZOFFSETTO:-0400
TZNAME:Eastern Daylight Time
END:DAYLIGHT
BEGIN:STANDARD
RRULE:FREQ=YEARLY;BYMONTH=11;BYDAY=1SU
DTSTART:20070101T000000
TZOFFSETFROM:-0400
TZOFFSETTO:-0500
TZNAME:Eastern Standard Time
END:STANDARD
END:VTIMEZONE
BEGIN:VEVENT
DTSTART;TZID=America/New_York:20260519T140000
DTEND;TZID=America/New_York:20260519T150000
X-MICROSOFT-CDO-ALLDAYEVENT:FALSE
SUMMARY:Stabilizing Margins Amid Rising Costs and Uncertainty - Webinar Presented by ERA Group
DESCRIPTION:Stabilizing Margins Amid Rising Costs and UncertaintyManufacturing remains a cornerstone of Virginia's economy\, but the current environment is putting sustained pressure on margins. While energy costs are a major concern\, they're only part of a broader cost challenge.In this session\, ERA Group and the Virginia Manufacturers Association will discuss how manufacturers are taking a more comprehensive approach to protecting margin\, looking beyond energy to areas like freight\, packaging\, supplier agreements\, MRO\, and other operational spend.Using real examples\, we'll walk through how these opportunities are identified\, prioritized\, and delivered often quickly and without disrupting operations.This webinar and Q&A is focused on practical ways manufacturers can strengthen cost discipline\, improve resilience\, and protect profitability in a volatile environment.
X-ALT-DESC;FMTTYPE=text/html:<!DOCTYPE html><html><head><title></title></head><body aria-disabled="false"><p><strong fr-original-style="" style="font-weight: 700\;"><em><span style="font-size: 18px\; color: rgb(71\, 85\, 119)\;">Stabilizing Margins Amid Rising Costs and Uncertainty</span></em></strong></p><p>Manufacturing remains a cornerstone of Virginia&rsquo\;s economy\, but the current environment is putting sustained pressure on margins. While energy costs are a major concern\, they&#39\;re only part of a broader cost challenge.</p><p>In this session\, ERA Group and the Virginia Manufacturers Association will discuss how manufacturers are taking a more comprehensive approach to protecting margin\, looking beyond energy to areas like freight\, packaging\, supplier agreements\, MRO\, and other operational spend.</p><p>Using real examples\, we&rsquo\;ll walk through how these opportunities are identified\, prioritized\, and delivered&mdash\;often quickly and without disrupting operations.</p><p>This webinar and Q&amp\;A is focused on practical ways manufacturers can strengthen cost discipline\, improve resilience\, and protect profitability in a volatile environment.</p></body></html>
LOCATION:
UID:e.3089.1449248
SEQUENCE:3
DTSTAMP:20260423T160658Z
URL:https://members.vamanufacturers.com/committee-calendar/Details/stabilizing-margins-amid-rising-costs-and-uncertainty-webinar-presented-by-era-group-1716562?sourceTypeId=Hub
END:VEVENT
END:VCALENDAR
