BEGIN:VCALENDAR
VERSION:2.0
PRODID:-//ChamberMaster//Event Calendar 2.0//EN
METHOD:PUBLISH
X-PUBLISHED-TTL:P1H
REFRESH-INTERVAL:P1H
CALSCALE:GREGORIAN
BEGIN:VTIMEZONE
TZID:America/New_York
BEGIN:DAYLIGHT
RRULE:FREQ=YEARLY;BYMONTH=3;BYDAY=2SU
DTSTART:20070101T000000
TZOFFSETFROM:-0500
TZOFFSETTO:-0400
TZNAME:Eastern Daylight Time
END:DAYLIGHT
BEGIN:STANDARD
RRULE:FREQ=YEARLY;BYMONTH=11;BYDAY=1SU
DTSTART:20070101T000000
TZOFFSETFROM:-0400
TZOFFSETTO:-0500
TZNAME:Eastern Standard Time
END:STANDARD
END:VTIMEZONE
BEGIN:VEVENT
DTSTART;TZID=America/New_York:20261106T180000
DTEND;TZID=America/New_York:20261106T230000
X-MICROSOFT-CDO-ALLDAYEVENT:FALSE
SUMMARY:2026 Virginia Manufacturing Gala
DESCRIPTION:Join us for an evening where history meets innovation at the Virginia Manufacturing Gala an unforgettable black-tie celebration honoring the ingenuity\, resilience\, and excellence of manufacturers across the Commonwealth.Join industry leaders\, innovators\, and changemakers on Friday\, November 6\, at the Dewey Gottwald Center at the Science Museum of Virginia for a night inspired by this year's powerful theme: "Forging a Nation: 250 Years of Virginia Innovation." In tribute to VA250\, the evening will artfully weave together the spirit of Revolutionary-era craftsmanship with the cutting-edge achievements shaping Virginia's manufacturing future.Guests will enjoy an elegant cocktail reception\, a refined plated dinner\, and engaging entertainment\, all culminating in one of the night's most anticipated moments the unveiling of the category winners and the prestigious Best in Show award for the Virginia Manufacturing Cup\, the statewide competition to name The Coolest Thing Made in Virginia.Be part of a night that pays tribute to Virginia's rich manufacturing heritage while spotlighting the visionaries driving its next chapter forward.
X-ALT-DESC;FMTTYPE=text/html:<!DOCTYPE html><html><head><title></title></head><body aria-disabled="false"><p>Join us for an evening where history meets innovation at the Virginia Manufacturing Gala&mdash\;an unforgettable black-tie celebration honoring the ingenuity\, resilience\, and excellence of manufacturers across the Commonwealth.</p><p>Join industry leaders\, innovators\, and changemakers on Friday\, November 6\, at the Dewey Gottwald Center at the Science Museum of Virginia for a night inspired by this year&rsquo\;s powerful theme: <em>&ldquo\;Forging a Nation: 250 Years of Virginia Innovation.&rdquo\;</em> In tribute to VA250\, the evening will artfully weave together the spirit of Revolutionary-era craftsmanship with the cutting-edge achievements shaping Virginia&rsquo\;s manufacturing future.</p><p>Guests will enjoy an elegant cocktail reception\, a refined plated dinner\, and engaging entertainment\, all culminating in one of the night&rsquo\;s most anticipated moments&mdash\;the unveiling of the category winners and the prestigious <em>Best in Show</em> award for the Virginia Manufacturing Cup\, the statewide competition to name <em>The Coolest Thing Made in Virginia.</em></p><p>Be part of a night that pays tribute to Virginia&rsquo\;s rich manufacturing heritage while spotlighting the visionaries driving its next chapter forward.</p></body></html>
LOCATION:2301 W Leigh St Richmond VA 23220
UID:e.3089.1307437
SEQUENCE:3
DTSTAMP:20260421T195332Z
URL:https://members.vamanufacturers.com/committee-calendar/Details/2026-virginia-manufacturing-gala-1532035?sourceTypeId=Hub
END:VEVENT
END:VCALENDAR
